BEGIN:VCALENDAR
VERSION:2.0
PRODID:-//www.austinchildguidance.org//NONSGML kigkonsult.se iCalcreator 2.
 30.10//
CALSCALE:GREGORIAN
METHOD:PUBLISH
UID:da7c2157-d899-4b99-929a-770bd0fdcf9b
X-WR-CALDESC:A corporate volunteer day focused on the beautification and ma
 intenance of ACGC’s Healing Garden. Inquire if your team is interested in 
 participating in a future volunteer opportunity!
X-WR-RELCALID:d84e915b0405c687cf94aceb0ce16c8e
X-WR-TIMEZONE:America/Chicago
BEGIN:VTIMEZONE
TZID:America/Chicago
BEGIN:STANDARD
TZNAME:CST
DTSTART:20251102T020000
TZOFFSETFROM:-0500
TZOFFSETTO:-0600
RDATE:20261101T020000
END:STANDARD
BEGIN:DAYLIGHT
TZNAME:CDT
DTSTART:20260308T020000
TZOFFSETFROM:-0600
TZOFFSETTO:-0500
RDATE:20270314T020000
END:DAYLIGHT
END:VTIMEZONE
BEGIN:VEVENT
UID:4f432e38-66e1-47ba-91b6-1c2a1f6d0b96
DTSTAMP:20260422T084718Z
DESCRIPTION:A corporate volunteer day focused on the beautification and mai
 ntenance of ACGC’s Healing Garden. Inquire if your team is interested in p
 articipating in a future volunteer opportunity!
DTSTART;TZID=America/Chicago:20260410T090000
DTEND;TZID=America/Chicago:20260410T130000
LOCATION:ACGC Healing Garden\, 810 W 45th St\, Austin\, TX 78751 US
SUMMARY:Susan & Michael Dell Foundation Volunteer Day
END:VEVENT
END:VCALENDAR
