BEGIN:VCALENDAR
VERSION:2.0
PRODID:-//www.austinchildguidance.org//NONSGML kigkonsult.se iCalcreator 2.
 30.10//
CALSCALE:GREGORIAN
METHOD:PUBLISH
UID:526c0eb3-16a0-4718-beb5-ea5b82ef0e49
X-WR-CALDESC:Shaping ACGC’s Future Together: Visionary Luncheons\n\nJoin us
  for Austin Child Guidance Center (ACGC)’s Visionary Luncheons\, a special
  series of gatherings led by our Executive Director\, Andy Miller. These l
 uncheons bring together our valued investors and community supporters to s
 hare in the vision for ACGC’s future.\n\nOur luncheon is on Friday\, April
  3rd\, 2025 from 11:30 AM to 1:00 PM.\n\nAs we approach our 75th anniversa
 ry in 2026\, we invite you to be part of the conversation shaping the next
  chapter of ACGC. Our mission remains steadfast: to provide accessible\, h
 igh quality mental health services to children and their families to empow
 er them to thrive in childhood and beyond. At ACGC\, we envision a world w
 here every family’s mental health needs are seen and met. In light of the 
 Central Texas floods and the fear and trauma felt in our community\, espec
 ially by our Spanish-speaking youth\, your support plays a vital role in m
 aking this vision a reality.\n\nThe luncheon is complimentary\, but seatin
 g is limited. Reserve your seat today! If you have any questions\, please 
 contact Brittany Golden at bgolden@austinchildguidance.org or 512-949-5126
 .\n
X-WR-RELCALID:d689f40c11c98e360bfb69a06723943d
X-WR-TIMEZONE:America/Chicago
BEGIN:VTIMEZONE
TZID:America/Chicago
BEGIN:STANDARD
TZNAME:CST
DTSTART:20251102T020000
TZOFFSETFROM:-0500
TZOFFSETTO:-0600
RDATE:20261101T020000
END:STANDARD
BEGIN:DAYLIGHT
TZNAME:CDT
DTSTART:20260308T020000
TZOFFSETFROM:-0600
TZOFFSETTO:-0500
RDATE:20270314T020000
END:DAYLIGHT
END:VTIMEZONE
BEGIN:VEVENT
UID:e7d1db73-f1b3-4737-86d0-1c650a54b803
DTSTAMP:20260422T085128Z
DESCRIPTION:Shaping ACGC’s Future Together: Visionary Luncheons\n\nJoin us 
 for Austin Child Guidance Center (ACGC)’s Visionary Luncheons\, a special 
 series of gatherings led by our Executive Director\, Andy Miller. These lu
 ncheons bring together our valued investors and community supporters to sh
 are in the vision for ACGC’s future.\n\nOur luncheon is on Friday\, April 
 3rd\, 2025 from 11:30 AM to 1:00 PM.\n\nAs we approach our 75th anniversar
 y in 2026\, we invite you to be part of the conversation shaping the next 
 chapter of ACGC. Our mission remains steadfast: to provide accessible\, hi
 gh quality mental health services to children and their families to empowe
 r them to thrive in childhood and beyond. At ACGC\, we envision a world wh
 ere every family’s mental health needs are seen and met. In light of the C
 entral Texas floods and the fear and trauma felt in our community\, especi
 ally by our Spanish-speaking youth\, your support plays a vital role in ma
 king this vision a reality.\n\nThe luncheon is complimentary\, but seating
  is limited. Reserve your seat today! If you have any questions\, please c
 ontact Brittany Golden at bgolden@austinchildguidance.org or 512-949-5126.
 \n
DTSTART;TZID=America/Chicago:20260410T113000
DTEND;TZID=America/Chicago:20260410T130000
LOCATION:810 W 45th St\, Austin\, AL 78751 US
SUMMARY:ACGC April 2026 Visionary Luncheon
END:VEVENT
END:VCALENDAR
