BEGIN:VCALENDAR
VERSION:2.0
PRODID:-//www.austinchildguidance.org//NONSGML kigkonsult.se iCalcreator 2.
 30.10//
CALSCALE:GREGORIAN
METHOD:PUBLISH
UID:c434af51-cba7-48c7-a980-5039dd305de5
X-WR-CALDESC:Volunteer group supporting the ACGC Healing Garden maintenance
  and outdoor space improvements for clients and families.
X-WR-RELCALID:d54058d2778ffe2975f65a297a468711
X-WR-TIMEZONE:America/Chicago
BEGIN:VTIMEZONE
TZID:America/Chicago
BEGIN:STANDARD
TZNAME:CST
DTSTART:20251102T020000
TZOFFSETFROM:-0500
TZOFFSETTO:-0600
RDATE:20261101T020000
END:STANDARD
BEGIN:DAYLIGHT
TZNAME:CDT
DTSTART:20260308T020000
TZOFFSETFROM:-0600
TZOFFSETTO:-0500
RDATE:20270314T020000
END:DAYLIGHT
END:VTIMEZONE
BEGIN:VEVENT
UID:b55c5439-ba8c-4fba-a4ed-052e5a80ce79
DTSTAMP:20260422T084848Z
DESCRIPTION:Volunteer group supporting the ACGC Healing Garden maintenance 
 and outdoor space improvements for clients and families.
DTSTART;TZID=America/Chicago:20260403T110000
DTEND;TZID=America/Chicago:20260403T123000
LOCATION:ACGC Healing Garden\, 810 W 45th St\, Austin\, TX 78751 US
SUMMARY:Medical Relief for Children (FIMRC UT)
END:VEVENT
END:VCALENDAR
