BEGIN:VCALENDAR
VERSION:2.0
PRODID:-//www.austinchildguidance.org//NONSGML kigkonsult.se iCalcreator 2.
 30.10//
CALSCALE:GREGORIAN
METHOD:PUBLISH
UID:f3b0012d-36d8-4625-8839-5f568031a573
X-WR-CALDESC:Tubby Todd team assembling care baskets with products for ACGC
  clients. Families are welcome to inquire and pick up items while supplies
  last!
X-WR-RELCALID:ecde3776003f21cb088985818744eeeb
X-WR-TIMEZONE:America/Chicago
BEGIN:VTIMEZONE
TZID:America/Chicago
BEGIN:STANDARD
TZNAME:CST
DTSTART:20251102T020000
TZOFFSETFROM:-0500
TZOFFSETTO:-0600
RDATE:20261101T020000
END:STANDARD
BEGIN:DAYLIGHT
TZNAME:CDT
DTSTART:20260308T020000
TZOFFSETFROM:-0600
TZOFFSETTO:-0500
RDATE:20270314T020000
END:DAYLIGHT
END:VTIMEZONE
BEGIN:VEVENT
UID:7fc16d18-60a8-4652-93c6-9a3e9b953de7
DTSTAMP:20260422T085447Z
DESCRIPTION:Tubby Todd team assembling care baskets with products for ACGC 
 clients. Families are welcome to inquire and pick up items while supplies 
 last!
DTSTART;TZID=America/Chicago:20260402T110000
DTEND;TZID=America/Chicago:20260402T123000
LOCATION:810 W 45th St\, Austin\, TX 78751 US
SUMMARY:Tubby Todd Volunteer Event - Community Goodie Bags
END:VEVENT
END:VCALENDAR
