BEGIN:VCALENDAR
VERSION:2.0
PRODID:-//www.austinchildguidance.org//NONSGML kigkonsult.se iCalcreator 2.
 30.10//
CALSCALE:GREGORIAN
METHOD:PUBLISH
UID:845c0b09-ba0d-4162-a1bf-d349db994ae9
X-WR-CALDESC:Join ACGC for this FREE\, seven week support groups in the Fal
 l 2025 for adolescent Latinas (ages 11-18) to connect with peers\, build c
 ommunity\, and have fun! While this space is designed with Latinas in mind
 \, all youth who identify with this group are welcome.\n\nYouth will take 
 part in:\n1) Experiential & movement based-activities\n2) Peer connection 
 & group discussions\n3) Culturally-affirming practices\n4) Tools for emoti
 onal regulation\n5) Pride in their cultural identity.\n\nParents/caregiver
 s will also be provided with the following:\n1) Strategies to support your
  teen\n2) Information on services through Austin Child Guidance Center\n3)
  Community referrals and resources.\n\nRegistration deadline is Tuesday\, 
 September 23rd. To get more information contact us at 512-451-2242 or grou
 ps@austinchildguidance.org
X-WR-RELCALID:d75cbf79669f801aa5b2de8a4508fd16
X-WR-TIMEZONE:America/Chicago
BEGIN:VTIMEZONE
TZID:America/Chicago
BEGIN:STANDARD
TZNAME:CST
DTSTART:20241103T020000
TZOFFSETFROM:-0500
TZOFFSETTO:-0600
RDATE:20251102T020000
RDATE:20261101T020000
END:STANDARD
BEGIN:DAYLIGHT
TZNAME:CDT
DTSTART:20250309T020000
TZOFFSETFROM:-0600
TZOFFSETTO:-0500
RDATE:20260308T020000
RDATE:20270314T020000
END:DAYLIGHT
END:VTIMEZONE
BEGIN:VEVENT
UID:c6f53013-427f-4341-9d3e-f883a21e8a1b
DTSTAMP:20260421T102005Z
DESCRIPTION:Join ACGC for this FREE\, seven week support groups in the Fall
  2025 for adolescent Latinas (ages 11-18) to connect with peers\, build co
 mmunity\, and have fun! While this space is designed with Latinas in mind\
 , all youth who identify with this group are welcome.\n\nYouth will take p
 art in:\n1) Experiential & movement based-activities\n2) Peer connection &
  group discussions\n3) Culturally-affirming practices\n4) Tools for emotio
 nal regulation\n5) Pride in their cultural identity.\n\nParents/caregivers
  will also be provided with the following:\n1) Strategies to support your 
 teen\n2) Information on services through Austin Child Guidance Center\n3) 
 Community referrals and resources.\n\nRegistration deadline is Tuesday\, S
 eptember 23rd. To get more information contact us at 512-451-2242 or group
 s@austinchildguidance.org
DTSTART;TZID=America/Chicago:20251002T171500
DTEND;TZID=America/Chicago:20251002T183000
LOCATION:810 W 45th St\, Austin\, TX 78751 US
SUMMARY:GALs - Group 2 for Adolescent Latinas
END:VEVENT
END:VCALENDAR
