BEGIN:VCALENDAR
VERSION:2.0
PRODID:-//www.austinchildguidance.org//NONSGML kigkonsult.se iCalcreator 2.
 30.10//
CALSCALE:GREGORIAN
METHOD:PUBLISH
UID:355f9fe4-fcf3-4e49-9531-1cd157109446
X-WR-CALDESC:Join ACGC for Con Mi MADRE's annual orientation and career fai
 r supporting Latina students and their mothers with educational resources 
 and leadership opportunities.
X-WR-RELCALID:badbe4e57d1e887b21aa8cf0252bbd53
X-WR-TIMEZONE:America/Chicago
BEGIN:VTIMEZONE
TZID:America/Chicago
BEGIN:STANDARD
TZNAME:CST
DTSTART:20241103T020000
TZOFFSETFROM:-0500
TZOFFSETTO:-0600
RDATE:20251102T020000
RDATE:20261101T020000
END:STANDARD
BEGIN:DAYLIGHT
TZNAME:CDT
DTSTART:20250309T020000
TZOFFSETFROM:-0600
TZOFFSETTO:-0500
RDATE:20260308T020000
END:DAYLIGHT
END:VTIMEZONE
BEGIN:VEVENT
UID:c653a01b-cff2-411f-a898-2fd142ccbd36
DTSTAMP:20260421T114228Z
DESCRIPTION:Join ACGC for Con Mi MADRE's annual orientation and career fair
  supporting Latina students and their mothers with educational resources a
 nd leadership opportunities.
DTSTART;TZID=America/Chicago:20250810T100000
DTEND;TZID=America/Chicago:20250810T120000
LOCATION:2100 E St Elmo Rd\, Austin\, TX 78744 US
SUMMARY:Con Mi MADRE: Rise & Lead Orientation
END:VEVENT
END:VCALENDAR
