BEGIN:VCALENDAR
VERSION:2.0
PRODID:-//www.austinchildguidance.org//NONSGML kigkonsult.se iCalcreator 2.
 30.10//
CALSCALE:GREGORIAN
METHOD:PUBLISH
UID:a15c341a-faa9-4975-b7e7-219aec7ce4f6
X-WR-CALDESC:A large-scale resource event where schools and community partn
 ers\, including ACGC\, share support services\, supplies\, and activities 
 with students and families in Manor ISD.
X-WR-RELCALID:d67802da7fd3e77c2e8d1d0954b76627
X-WR-TIMEZONE:America/Chicago
BEGIN:VTIMEZONE
TZID:America/Chicago
BEGIN:STANDARD
TZNAME:CST
DTSTART:20241103T020000
TZOFFSETFROM:-0500
TZOFFSETTO:-0600
RDATE:20251102T020000
RDATE:20261101T020000
END:STANDARD
BEGIN:DAYLIGHT
TZNAME:CDT
DTSTART:20250309T020000
TZOFFSETFROM:-0600
TZOFFSETTO:-0500
RDATE:20260308T020000
END:DAYLIGHT
END:VTIMEZONE
BEGIN:VEVENT
UID:864ee072-b5e9-4b94-b5bc-f94102380ae5
DTSTAMP:20260421T114443Z
DESCRIPTION:A large-scale resource event where schools and community partne
 rs\, including ACGC\, share support services\, supplies\, and activities w
 ith students and families in Manor ISD.
DTSTART;TZID=America/Chicago:20250809T090000
DTEND;TZID=America/Chicago:20250809T130000
LOCATION:14832 FM973\, Manor\, TX 78653 US
SUMMARY:Manor ISD - Back to School Bash
END:VEVENT
END:VCALENDAR
