BEGIN:VCALENDAR
VERSION:2.0
PRODID:-//www.austinchildguidance.org//NONSGML kigkonsult.se iCalcreator 2.
 30.10//
CALSCALE:GREGORIAN
METHOD:PUBLISH
UID:95653ba5-7cfc-4efa-b7a0-6127f54e4f49
X-WR-CALDESC:Because religion and spirituality often play a vital role in h
 ealing\, it’s not uncommon for families and individuals experiencing menta
 l health issues to turn to a faith leader first for help. Yet faith leader
 s\, staff and key outreach volunteers are often lacking the information\, 
 education\, and resources to be the “bridge to hope” needed as people navi
 gate serious\, sometimes life-threatening\, mental health issues. This 3-h
 our FREE workshop will include:\n\n1) An informative overview of prevalent
  mental health myths and common symptoms of mental health disorders\n2) Si
 mple ideas for building “bridges to hope” for your faith community\n3) A t
 ool kit of community mental health resources\n4) A tool for developing an 
 action plan to address the needs in your community and optional post-train
 ing support
X-WR-RELCALID:288639124aa880587426d0f254e4130c
X-WR-TIMEZONE:America/Chicago
BEGIN:VTIMEZONE
TZID:America/Chicago
BEGIN:STANDARD
TZNAME:CST
DTSTART:20241103T020000
TZOFFSETFROM:-0500
TZOFFSETTO:-0600
RDATE:20251102T020000
RDATE:20261101T020000
END:STANDARD
BEGIN:DAYLIGHT
TZNAME:CDT
DTSTART:20250309T020000
TZOFFSETFROM:-0600
TZOFFSETTO:-0500
RDATE:20260308T020000
END:DAYLIGHT
END:VTIMEZONE
BEGIN:VEVENT
UID:7cfbea8e-c7b4-489d-a44f-5a4ea04779a8
DTSTAMP:20260421T114147Z
DESCRIPTION:Because religion and spirituality often play a vital role in he
 aling\, it’s not uncommon for families and individuals experiencing mental
  health issues to turn to a faith leader first for help. Yet faith leaders
 \, staff and key outreach volunteers are often lacking the information\, e
 ducation\, and resources to be the “bridge to hope” needed as people navig
 ate serious\, sometimes life-threatening\, mental health issues. This 3-ho
 ur FREE workshop will include:\n\n1) An informative overview of prevalent 
 mental health myths and common symptoms of mental health disorders\n2) Sim
 ple ideas for building “bridges to hope” for your faith community\n3) A to
 ol kit of community mental health resources\n4) A tool for developing an a
 ction plan to address the needs in your community and optional post-traini
 ng support
DTSTART;TZID=America/Chicago:20250807T083000
DTEND;TZID=America/Chicago:20250807T120000
LOCATION:1811 SE Inner Loop\, Georgetown\, TX 78626 US
SUMMARY:NAMI - Bridges to Hope Workshop
END:VEVENT
END:VCALENDAR
