BEGIN:VCALENDAR
VERSION:2.0
PRODID:-//www.austinchildguidance.org//NONSGML kigkonsult.se iCalcreator 2.
 30.10//
CALSCALE:GREGORIAN
METHOD:PUBLISH
UID:3d0b7cf2-8dcc-4a62-a33b-1b1ea86e5dcb
X-WR-CALDESC:Austin Sign Company is hosting Bling It On - For Kids at Casav
 ante by Titan Jewelers in the Gateway Shopping Center. A ticketed\, 18+ ex
 clusive event\, come out to socialize\, eat and drink with friends\, and s
 hop fine jewelry.  \n\n25% of all jewelry sold and 100% of ticket sales wi
 ll donated to ACGC\, supporting accessible\, high quality mental health se
 rvices to children and their families. Mark your calendars and get ready t
 o bling it on with us!
X-WR-RELCALID:6e213dd2162cf8674a29d85c7a0e704e
X-WR-TIMEZONE:America/Chicago
BEGIN:VTIMEZONE
TZID:America/Chicago
BEGIN:STANDARD
TZNAME:CST
DTSTART:20241103T020000
TZOFFSETFROM:-0500
TZOFFSETTO:-0600
RDATE:20251102T020000
RDATE:20261101T020000
END:STANDARD
BEGIN:DAYLIGHT
TZNAME:CDT
DTSTART:20250309T020000
TZOFFSETFROM:-0600
TZOFFSETTO:-0500
RDATE:20260308T020000
END:DAYLIGHT
END:VTIMEZONE
BEGIN:VEVENT
UID:b64d8755-58ab-4dba-a28b-f21675b96834
DTSTAMP:20260421T114745Z
DESCRIPTION:Austin Sign Company is hosting Bling It On - For Kids at Casava
 nte by Titan Jewelers in the Gateway Shopping Center. A ticketed\, 18+ exc
 lusive event\, come out to socialize\, eat and drink with friends\, and sh
 op fine jewelry.  \n\n25% of all jewelry sold and 100% of ticket sales wil
 l donated to ACGC\, supporting accessible\, high quality mental health ser
 vices to children and their families. Mark your calendars and get ready to
  bling it on with us!
DTSTART;TZID=America/Chicago:20250807T170000
DTEND;TZID=America/Chicago:20250807T200000
LOCATION:9607 Research Boulevard #100 \, Austin\, TX 78759 US
SUMMARY:Bling It On - For Kids
END:VEVENT
END:VCALENDAR
