BEGIN:VCALENDAR
VERSION:2.0
PRODID:-//www.austinchildguidance.org//NONSGML kigkonsult.se iCalcreator 2.
 30.10//
CALSCALE:GREGORIAN
METHOD:PUBLISH
UID:adcf8405-f7b6-4110-9b3a-9e445fec9bb4
X-WR-CALDESC:Calling for families in Del Valle ISD! Join ACGC for an evenin
 g of family fun\, community engagement\, and resource-sharing in preparati
 on for the school year.
X-WR-RELCALID:03de1a4408ebf0da3648a6a65d6e9bea
X-WR-TIMEZONE:America/Chicago
BEGIN:VTIMEZONE
TZID:America/Chicago
BEGIN:STANDARD
TZNAME:CST
DTSTART:20241103T020000
TZOFFSETFROM:-0500
TZOFFSETTO:-0600
RDATE:20251102T020000
RDATE:20261101T020000
END:STANDARD
BEGIN:DAYLIGHT
TZNAME:CDT
DTSTART:20250309T020000
TZOFFSETFROM:-0600
TZOFFSETTO:-0500
RDATE:20260308T020000
END:DAYLIGHT
END:VTIMEZONE
BEGIN:VEVENT
UID:75959822-0295-44c3-9a68-c4919e9bda44
DTSTAMP:20260421T114920Z
DESCRIPTION:Calling for families in Del Valle ISD! Join ACGC for an evening
  of family fun\, community engagement\, and resource-sharing in preparatio
 n for the school year.
DTSTART;TZID=America/Chicago:20250806T170000
DTEND;TZID=America/Chicago:20250806T190000
LOCATION:5201 Ross Rd\, Del Valle\, TX 78617 US
SUMMARY:Del Valle ISD's Back to School Bash
END:VEVENT
END:VCALENDAR
