BEGIN:VCALENDAR
VERSION:2.0
PRODID:-//www.austinchildguidance.org//NONSGML kigkonsult.se iCalcreator 2.
 30.10//
CALSCALE:GREGORIAN
METHOD:PUBLISH
UID:28200dfc-0fed-49eb-8257-2625e28b2a1a
X-WR-CALDESC:Celebrate the season with music\, food\, and cultural activiti
 es for the whole family.
X-WR-RELCALID:9e8527abef5ab3e1eaca060d66b1915f
X-WR-TIMEZONE:America/Chicago
BEGIN:VTIMEZONE
TZID:America/Chicago
BEGIN:STANDARD
TZNAME:CST
DTSTART:20241103T020000
TZOFFSETFROM:-0500
TZOFFSETTO:-0600
RDATE:20251102T020000
RDATE:20261101T020000
END:STANDARD
BEGIN:DAYLIGHT
TZNAME:CDT
DTSTART:20250309T020000
TZOFFSETFROM:-0600
TZOFFSETTO:-0500
RDATE:20260308T020000
END:DAYLIGHT
END:VTIMEZONE
BEGIN:VEVENT
UID:e1b77cd0-1570-4fce-a512-2596e5b56107
DTSTAMP:20260421T170833Z
DESCRIPTION:Celebrate the season with music\, food\, and cultural activitie
 s for the whole family.
DTSTART;TZID=America/Chicago:20250510T100000
DTEND;TZID=America/Chicago:20250510T130000
LOCATION:8401 Hathaway Dr.\, Austin\, TX 78757 US
SUMMARY:Burnet Middle School 8th Annual Spring Fiesta!
END:VEVENT
END:VCALENDAR
