BEGIN:VCALENDAR
VERSION:2.0
PRODID:-//www.austinchildguidance.org//NONSGML kigkonsult.se iCalcreator 2.
 30.10//
CALSCALE:GREGORIAN
METHOD:PUBLISH
UID:d43bd59e-402e-4e25-bcd5-1dc76ac22904
X-WR-CALDESC:A fun-filled community event with games\, activities\, and loc
 al resources.
X-WR-RELCALID:0a34e8b7bd6ebd729a781d7c8c174a13
X-WR-TIMEZONE:America/Chicago
BEGIN:VTIMEZONE
TZID:America/Chicago
BEGIN:STANDARD
TZNAME:CST
DTSTART:20241103T020000
TZOFFSETFROM:-0500
TZOFFSETTO:-0600
RDATE:20251102T020000
RDATE:20261101T020000
END:STANDARD
BEGIN:DAYLIGHT
TZNAME:CDT
DTSTART:20250309T020000
TZOFFSETFROM:-0600
TZOFFSETTO:-0500
RDATE:20260308T020000
END:DAYLIGHT
END:VTIMEZONE
BEGIN:VEVENT
UID:fa8cb823-fcc6-440c-afaf-9f04aef7b30e
DTSTAMP:20260421T172122Z
DESCRIPTION:A fun-filled community event with games\, activities\, and loca
 l resources.
DTSTART;TZID=America/Chicago:20250508T170000
DTEND;TZID=America/Chicago:20250508T190000
LOCATION:14649 Merrilltown Dr\, Austin\, TX 78728 US
SUMMARY:Wells Branch Elementary Joy Fest
END:VEVENT
END:VCALENDAR
