BEGIN:VCALENDAR
VERSION:2.0
PRODID:-//www.austinchildguidance.org//NONSGML kigkonsult.se iCalcreator 2.
 30.10//
CALSCALE:GREGORIAN
METHOD:PUBLISH
UID:f1e5e606-adc1-4e6d-b882-2feca3cebe43
X-WR-CALDESC:Join us for special Cocktail Social Hour Reunion for former bo
 ard members of Austin Child Guidance Center (ACGC) to celebrate our shared
  history. As we approach our 75th anniversary in 2026\, we also look forwa
 rd to sharing exciting updates and including you in this next chapter of A
 CGC. \n\nJoin us on May 1\, 2025\, for an evening of reconnecting\, networ
 king\, and celebrating the impact we've made together. The social will be 
 from 4:00 - 6:00 PM. Come anytime and stay as long as you can! Dress code 
 is business causal. Highlights from the social includes: \n\n1. Cocktail S
 ocial Hour: Enjoy refreshments and hors d'oeuvres while mingling with fell
 ow former board members.\n2. Center Tours: Explore the facilities and see 
 firsthand the impact of your contributions to ACGC.\n3. Future Vision Pres
 entation: Hear from our current leadership team about the exciting initiat
 ives and future plans for ACGC.\n\nPlease RSVP by Monday April 28th. If yo
 u have any questions\, reach out to our Senior Director of Development\, B
 rittany Golden\, at bgolden@austinchildguidance.org.
X-WR-RELCALID:3f9a5f8d5fc8847089956abe0e0bda19
X-WR-TIMEZONE:America/Chicago
BEGIN:VTIMEZONE
TZID:America/Chicago
BEGIN:STANDARD
TZNAME:CST
DTSTART:20241103T020000
TZOFFSETFROM:-0500
TZOFFSETTO:-0600
RDATE:20251102T020000
END:STANDARD
BEGIN:DAYLIGHT
TZNAME:CDT
DTSTART:20250309T020000
TZOFFSETFROM:-0600
TZOFFSETTO:-0500
RDATE:20260308T020000
END:DAYLIGHT
END:VTIMEZONE
BEGIN:VEVENT
UID:6bffce0b-fce8-4125-a1b7-9568f54528b6
DTSTAMP:20260421T171343Z
DESCRIPTION:Join us for special Cocktail Social Hour Reunion for former boa
 rd members of Austin Child Guidance Center (ACGC) to celebrate our shared 
 history. As we approach our 75th anniversary in 2026\, we also look forwar
 d to sharing exciting updates and including you in this next chapter of AC
 GC. \n\nJoin us on May 1\, 2025\, for an evening of reconnecting\, network
 ing\, and celebrating the impact we've made together. The social will be f
 rom 4:00 - 6:00 PM. Come anytime and stay as long as you can! Dress code i
 s business causal. Highlights from the social includes: \n\n1. Cocktail So
 cial Hour: Enjoy refreshments and hors d'oeuvres while mingling with fello
 w former board members.\n2. Center Tours: Explore the facilities and see f
 irsthand the impact of your contributions to ACGC.\n3. Future Vision Prese
 ntation: Hear from our current leadership team about the exciting initiati
 ves and future plans for ACGC.\n\nPlease RSVP by Monday April 28th. If you
  have any questions\, reach out to our Senior Director of Development\, Br
 ittany Golden\, at bgolden@austinchildguidance.org.
DTSTART;TZID=America/Chicago:20250501T160000
DTEND;TZID=America/Chicago:20250501T180000
LOCATION:810 W 45th St\, Austin\, TX 78751 US
SUMMARY:Cocktail Social Hour Reunion - ACGC Board Members
END:VEVENT
END:VCALENDAR
