BEGIN:VCALENDAR
VERSION:2.0
PRODID:-//www.austinchildguidance.org//NONSGML kigkonsult.se iCalcreator 2.
 30.10//
CALSCALE:GREGORIAN
METHOD:PUBLISH
UID:ed2c0096-1dfd-4da8-90bc-4ed6c360ce7a
X-WR-CALDESC:Shaping ACGC’s Future Together: Visionary Luncheons\n\nJoin us
  for Austin Child Guidance Center’s Visionary Luncheons\, a special series
  of gatherings led by our Executive Director\, Andy Miller. With four oppo
 rtunities to connect\, these luncheons bring together our valued investors
  and community supporters to share in the vision for ACGC’s future.\n\nOur
  luncheon is on Wednesday\, April 16th\, 2025 from 11:30 AM to 1:00 PM.\n
 \nAs we approach our 75th anniversary in 2026\, we invite you to be part o
 f the conversation shaping the next chapter of ACGC. Our mission remains s
 teadfast: to provides accessible\, high quality mental health services to 
 children and their families to empower them to thrive in childhood and bey
 ond. At ACGC\, we envision a world where every family’s mental health need
 s are seen and met. Your support plays a vital role in making this vision 
 a reality.\n\nThe luncheon is complimentary\, but seating is limited. Rese
 rve your seat today! If you have any questions\, please contact Brittany G
 olden at bgolden@austinchildguidance.org or 512-949-5126.\n\nWe look forwa
 rd to sharing this journey with you
X-WR-RELCALID:13e92697fd8be3878bf64e674e83be2a
X-WR-TIMEZONE:America/Chicago
BEGIN:VTIMEZONE
TZID:America/Chicago
BEGIN:STANDARD
TZNAME:CST
DTSTART:20241103T020000
TZOFFSETFROM:-0500
TZOFFSETTO:-0600
RDATE:20251102T020000
END:STANDARD
BEGIN:DAYLIGHT
TZNAME:CDT
DTSTART:20250309T020000
TZOFFSETFROM:-0600
TZOFFSETTO:-0500
RDATE:20260308T020000
END:DAYLIGHT
END:VTIMEZONE
BEGIN:VEVENT
UID:c1b9bb10-b913-4559-bc86-684771143518
DTSTAMP:20260423T112753Z
DESCRIPTION:Shaping ACGC’s Future Together: Visionary Luncheons\n\nJoin us 
 for Austin Child Guidance Center’s Visionary Luncheons\, a special series 
 of gatherings led by our Executive Director\, Andy Miller. With four oppor
 tunities to connect\, these luncheons bring together our valued investors 
 and community supporters to share in the vision for ACGC’s future.\n\nOur 
 luncheon is on Wednesday\, April 16th\, 2025 from 11:30 AM to 1:00 PM.\n\n
 As we approach our 75th anniversary in 2026\, we invite you to be part of 
 the conversation shaping the next chapter of ACGC. Our mission remains ste
 adfast: to provides accessible\, high quality mental health services to ch
 ildren and their families to empower them to thrive in childhood and beyon
 d. At ACGC\, we envision a world where every family’s mental health needs 
 are seen and met. Your support plays a vital role in making this vision a 
 reality.\n\nThe luncheon is complimentary\, but seating is limited. Reserv
 e your seat today! If you have any questions\, please contact Brittany Gol
 den at bgolden@austinchildguidance.org or 512-949-5126.\n\nWe look forward
  to sharing this journey with you
DTSTART;TZID=America/Chicago:20250416T113000
DTEND;TZID=America/Chicago:20250416T130000
LOCATION:810 W 45th St\, Austin\, TX 78751 US
SUMMARY:ACGC 2025 Visionary Luncheon
END:VEVENT
END:VCALENDAR
