BEGIN:VCALENDAR
VERSION:2.0
PRODID:-//www.austinchildguidance.org//NONSGML kigkonsult.se iCalcreator 2.
 30.10//
CALSCALE:GREGORIAN
METHOD:PUBLISH
UID:7cd9f947-273f-4a85-ae1a-7f60e0e7cc7a
X-WR-CALDESC:ACGC and AllDolledUpATX's annual toy drive is coming on Decemb
 er 8th at the Center from 3 - 5 PM. Join us for this holiday celebration w
 ith the community! Bring a toy\, meet Mr. & Mrs. Claus\, take a family por
 trait\, decorate an ornament\, enter the raffle to win fun prizes\, bid on
  awesome silent auction packages\, and mingle with Austin’s finest. There 
 will also be cookies from Tiff's Treats\, gingerbread from Central Market 
 and a wine tasting provided by Austin Winery! \n\nThis is a family event d
 esigned to involve our children in giving back to the community through a 
 Toy Drive and Silent Auction. All proceeds & donations go directly to Aust
 in Child Guidance Center's clients & families. RSVP down below.\n\nGreat g
 ender-neutral ideas that would benefit many of our families: winter hats\,
  gloves\, scarves\, and socks\, STEM toys\, earbuds\, blankets\, gift card
 s (Amazon\, Walmart\, HEB\, Target\, VISA)\, water bottles\, arts and craf
 t supplies\, journal and pens
X-WR-RELCALID:5402c4625602814b9f2e40aff229f32d
X-WR-TIMEZONE:America/Chicago
BEGIN:VTIMEZONE
TZID:America/Chicago
BEGIN:STANDARD
TZNAME:CST
DTSTART:20241103T020000
TZOFFSETFROM:-0500
TZOFFSETTO:-0600
RDATE:20251102T020000
END:STANDARD
BEGIN:DAYLIGHT
TZNAME:CDT
DTSTART:20240310T020000
TZOFFSETFROM:-0600
TZOFFSETTO:-0500
RDATE:20250309T020000
RDATE:20260308T020000
END:DAYLIGHT
END:VTIMEZONE
BEGIN:VEVENT
UID:d2f5eb4e-eab7-4ecb-8b55-69c4ab3ae7d0
DTSTAMP:20260423T181505Z
DESCRIPTION:ACGC and AllDolledUpATX's annual toy drive is coming on Decembe
 r 8th at the Center from 3 - 5 PM. Join us for this holiday celebration wi
 th the community! Bring a toy\, meet Mr. & Mrs. Claus\, take a family port
 rait\, decorate an ornament\, enter the raffle to win fun prizes\, bid on 
 awesome silent auction packages\, and mingle with Austin’s finest. There w
 ill also be cookies from Tiff's Treats\, gingerbread from Central Market a
 nd a wine tasting provided by Austin Winery! \n\nThis is a family event de
 signed to involve our children in giving back to the community through a T
 oy Drive and Silent Auction. All proceeds & donations go directly to Austi
 n Child Guidance Center's clients & families. RSVP down below.\n\nGreat ge
 nder-neutral ideas that would benefit many of our families: winter hats\, 
 gloves\, scarves\, and socks\, STEM toys\, earbuds\, blankets\, gift cards
  (Amazon\, Walmart\, HEB\, Target\, VISA)\, water bottles\, arts and craft
  supplies\, journal and pens
DTSTART;TZID=America/Chicago:20241208T150000
DTEND;TZID=America/Chicago:20241208T170000
LOCATION:810 W 45th St\, Austin\, TX 78751 US
SUMMARY:Dolls4Dolls Holiday Celebration and Toy Drive
END:VEVENT
END:VCALENDAR
