BEGIN:VCALENDAR
VERSION:2.0
PRODID:-//www.austinchildguidance.org//NONSGML kigkonsult.se iCalcreator 2.
 30.10//
CALSCALE:GREGORIAN
METHOD:PUBLISH
UID:d0a67cb3-7f4e-4058-a0e8-4ffd2fccc90d
X-WR-CALDESC:We are offering an opportunity for you to give time back to AC
 GC during Giving Tuesday! Help us share thanks with the ACGC community at 
 our Thank-A-Thon. Feel free to drop in anytime between 10 AM and 2 PM – fo
 r just 10 minutes or longer – to help us express our gratitude to our many
  supporters. Scripts for making phone calls or writing thank-you notes wil
 l be provided. ACGC staff members will be in our conference room with all 
 the materials and snacks and drinks to help make this event a joyful time.
  \n\nFor any questions\, contact us at development@austinchildguidance.org
  
X-WR-RELCALID:83f818e163004e5542e6edb6bbaa2cbd
X-WR-TIMEZONE:America/Chicago
BEGIN:VTIMEZONE
TZID:America/Chicago
BEGIN:STANDARD
TZNAME:CST
DTSTART:20241103T020000
TZOFFSETFROM:-0500
TZOFFSETTO:-0600
RDATE:20251102T020000
END:STANDARD
BEGIN:DAYLIGHT
TZNAME:CDT
DTSTART:20240310T020000
TZOFFSETFROM:-0600
TZOFFSETTO:-0500
RDATE:20250309T020000
RDATE:20260308T020000
END:DAYLIGHT
END:VTIMEZONE
BEGIN:VEVENT
UID:75ee2a43-b07c-485f-a0e1-0dffa61c517f
DTSTAMP:20260423T181127Z
DESCRIPTION:We are offering an opportunity for you to give time back to ACG
 C during Giving Tuesday! Help us share thanks with the ACGC community at o
 ur Thank-A-Thon. Feel free to drop in anytime between 10 AM and 2 PM – for
  just 10 minutes or longer – to help us express our gratitude to our many 
 supporters. Scripts for making phone calls or writing thank-you notes will
  be provided. ACGC staff members will be in our conference room with all t
 he materials and snacks and drinks to help make this event a joyful time. 
 \n\nFor any questions\, contact us at development@austinchildguidance.org 
DTSTART;TZID=America/Chicago:20241203T100000
DTEND;TZID=America/Chicago:20241203T140000
LOCATION:810 W 45th St\, Austin\, TX 78751 US
SUMMARY:Giving Tuesday - Thank A Thon!
END:VEVENT
END:VCALENDAR
