BEGIN:VCALENDAR
VERSION:2.0
PRODID:-//www.austinchildguidance.org//NONSGML kigkonsult.se iCalcreator 2.
 30.10//
CALSCALE:GREGORIAN
METHOD:PUBLISH
UID:26235c42-1e52-4b30-8415-9900d98d04a2
X-WR-CALDESC:Led by our Executive Director\, Andy Miller\, this event promi
 ses to be an inspiring gathering for our investors and community supporter
 s. Join us as we share our vision for the future of ACGC and explore how y
 ou can play a pivotal role in bringing that vision to life.\n\nAt ACGC\, o
 ur mission is to provide accessible\, high-quality mental health services 
 to children and their families\, empowering them to thrive in childhood an
 d beyond. Your support is crucial in helping us achieve this mission\, and
  we look forward to sharing our vision with you.\n\nThe luncheon is compli
 mentary. Join us on Friday\, November 1st. Deadline to RSVP is Monday\, Oc
 tober 28th. For any inquiries or assistance\, please contact Brittany Gold
 en at bgolden@austinchildguidance.org or 512-949-5126. We can't wait to ha
 ve you join us for this special occasion.
X-WR-RELCALID:8d9cee3d3efa935aa0942acba07b7ec7
X-WR-TIMEZONE:America/Chicago
BEGIN:VTIMEZONE
TZID:America/Chicago
BEGIN:STANDARD
TZNAME:CST
DTSTART:20231105T020000
TZOFFSETFROM:-0500
TZOFFSETTO:-0600
RDATE:20241103T020000
RDATE:20251102T020000
END:STANDARD
BEGIN:DAYLIGHT
TZNAME:CDT
DTSTART:20240310T020000
TZOFFSETFROM:-0600
TZOFFSETTO:-0500
RDATE:20250309T020000
RDATE:20260308T020000
END:DAYLIGHT
END:VTIMEZONE
BEGIN:VEVENT
UID:abd32761-88e7-47b9-843a-49b0b83dacda
DTSTAMP:20260423T194057Z
DESCRIPTION:Led by our Executive Director\, Andy Miller\, this event promis
 es to be an inspiring gathering for our investors and community supporters
 . Join us as we share our vision for the future of ACGC and explore how yo
 u can play a pivotal role in bringing that vision to life.\n\nAt ACGC\, ou
 r mission is to provide accessible\, high-quality mental health services t
 o children and their families\, empowering them to thrive in childhood and
  beyond. Your support is crucial in helping us achieve this mission\, and 
 we look forward to sharing our vision with you.\n\nThe luncheon is complim
 entary. Join us on Friday\, November 1st. Deadline to RSVP is Monday\, Oct
 ober 28th. For any inquiries or assistance\, please contact Brittany Golde
 n at bgolden@austinchildguidance.org or 512-949-5126. We can't wait to hav
 e you join us for this special occasion.
DTSTART;TZID=America/Chicago:20241101T113000
DTEND;TZID=America/Chicago:20241101T130000
LOCATION:810 W 45th St\, Austin\, TX 78751 US
SUMMARY:Fall Visionary Luncheon
END:VEVENT
END:VCALENDAR
