BEGIN:VCALENDAR
VERSION:2.0
PRODID:-//www.austinchildguidance.org//NONSGML kigkonsult.se iCalcreator 2.
 30.10//
CALSCALE:GREGORIAN
METHOD:PUBLISH
UID:038ff41b-8155-49ce-a350-ac15d4a690dd
X-WR-CALDESC:The 13th Annual Phyllis Richards Icon for Youth Awards Ceremon
 y celebrates Dr. Phyllis Richards whose legacy is exemplified through this
  year's four finalists: Alison Alter\, Adrienne Kennedy\, and Ricardo Zava
 la. Featuring guest speaker\, Seanna Crosbie\, ACGC's former Chief Strateg
 y & Program officer and a trauma-informed care pioneer in Texas\, join us 
 this year to recognize the amazing work of our finalists to make a differe
 nce in the lives of children and families throughout Central Texas. \n\nTh
 e awards ceremony is on Friday\, October 25th from 12:30-1:30 PM at the Au
 stin Board of Realtors Headquarters (4800 Spicewood Springs Road Austin\, 
 Texas 78759). Tickets are FREE. Light bites and drinks will be offered.
X-WR-RELCALID:5152144261f328e93381b60861289eab
X-WR-TIMEZONE:America/Chicago
BEGIN:VTIMEZONE
TZID:America/Chicago
BEGIN:STANDARD
TZNAME:CST
DTSTART:20231105T020000
TZOFFSETFROM:-0500
TZOFFSETTO:-0600
RDATE:20241103T020000
RDATE:20251102T020000
END:STANDARD
BEGIN:DAYLIGHT
TZNAME:CDT
DTSTART:20240310T020000
TZOFFSETFROM:-0600
TZOFFSETTO:-0500
RDATE:20250309T020000
RDATE:20260308T020000
END:DAYLIGHT
END:VTIMEZONE
BEGIN:VEVENT
UID:c29d65d8-cab9-4846-a020-69c32525fbfa
DTSTAMP:20260423T213327Z
DESCRIPTION:The 13th Annual Phyllis Richards Icon for Youth Awards Ceremony
  celebrates Dr. Phyllis Richards whose legacy is exemplified through this 
 year's four finalists: Alison Alter\, Adrienne Kennedy\, and Ricardo Zaval
 a. Featuring guest speaker\, Seanna Crosbie\, ACGC's former Chief Strategy
  & Program officer and a trauma-informed care pioneer in Texas\, join us t
 his year to recognize the amazing work of our finalists to make a differen
 ce in the lives of children and families throughout Central Texas. \n\nThe
  awards ceremony is on Friday\, October 25th from 12:30-1:30 PM at the Aus
 tin Board of Realtors Headquarters (4800 Spicewood Springs Road Austin\, T
 exas 78759). Tickets are FREE. Light bites and drinks will be offered.
DTSTART;TZID=America/Chicago:20241025T123000
DTEND;TZID=America/Chicago:20241025T133000
LOCATION:Austin Board of Realtors Headquarters - 4800 Spicewood Springs Roa
 d Austin\, Texas 78759
SUMMARY:13th Annual Phyllis Richards Icon for Youth Award Ceremony
END:VEVENT
END:VCALENDAR
