BEGIN:VCALENDAR
VERSION:2.0
PRODID:-//www.austinchildguidance.org//NONSGML kigkonsult.se iCalcreator 2.
 30.10//
CALSCALE:GREGORIAN
METHOD:PUBLISH
UID:62648817-7dec-4b37-9b69-1681e27a9e31
X-WR-CALDESC:We are excited to present a live training session with <a href
 ='https://www.austinchildguidance.org/news-events/natasha-poulopoulos.html
 '> Dr. Natasha L. Poulopoulos</a>\, a leading expert in pediatric psycholo
 gy\, focused on equipping mental health providers with the tools and knowl
 edge to effectively support LGBTQ+ youth. This training will cover essenti
 al strategies for creating affirming care environments\, understanding gen
 der and sexual diversity\, and addressing the unique mental health needs o
 f LGBTQ+ youth.\n\n<b>Learning Objectives</b>\nUpon completing the worksho
 p\, participants will be able to:\n•	Describe and differentiate between ter
 minology relating to gender identity and sexual orientation.\n•	Describe mi
 nority stress theory as it applies to mental health disparities among LGBT
 Q+ youth.\n•	Articulate one affirming care approach clinicians can utilize 
 to assess child and adolescent gender identity and sexual orientation safe
 ly.\n•	Identify two strategies that promote awareness and respect of sexual
  and gender diversity and establish an affirming environment for LGBTQ+ pa
 tients and families.\n\n<b>Who:</b> Training for clinicians and mental hea
 lth professionals in the Greater Austin area\n<b>When:</b> Thursday\, Sept
 ember 19\, 2024\n<b>Time:</b> 5:30 to 6:30 PM CST\n<b>Where:</b> Virtual v
 ia Zoom\, you will receive a link to join the training via email\n<b>Cost:
 </b> Professionals (LCSWs\, LPCs\, LMFTs\, Psychologists) needing to obtai
 n CEUs: $25 per person\; non-CEU: $10 per person
X-WR-RELCALID:5a160f62df3af7889c4a170c367e3657
X-WR-TIMEZONE:America/Chicago
BEGIN:VTIMEZONE
TZID:America/Chicago
BEGIN:STANDARD
TZNAME:CST
DTSTART:20231105T020000
TZOFFSETFROM:-0500
TZOFFSETTO:-0600
RDATE:20241103T020000
RDATE:20251102T020000
END:STANDARD
BEGIN:DAYLIGHT
TZNAME:CDT
DTSTART:20240310T020000
TZOFFSETFROM:-0600
TZOFFSETTO:-0500
RDATE:20250309T020000
RDATE:20260308T020000
END:DAYLIGHT
END:VTIMEZONE
BEGIN:VEVENT
UID:ef6dff3a-e4cd-46c3-8135-944b1a47fab0
DTSTAMP:20260423T232540Z
DESCRIPTION:We are excited to present a live training session with <a href=
 'https://www.austinchildguidance.org/news-events/natasha-poulopoulos.html'
 > Dr. Natasha L. Poulopoulos</a>\, a leading expert in pediatric psycholog
 y\, focused on equipping mental health providers with the tools and knowle
 dge to effectively support LGBTQ+ youth. This training will cover essentia
 l strategies for creating affirming care environments\, understanding gend
 er and sexual diversity\, and addressing the unique mental health needs of
  LGBTQ+ youth.\n\n<b>Learning Objectives</b>\nUpon completing the workshop
 \, participants will be able to:\n•	Describe and differentiate between term
 inology relating to gender identity and sexual orientation.\n•	Describe min
 ority stress theory as it applies to mental health disparities among LGBTQ
 + youth.\n•	Articulate one affirming care approach clinicians can utilize t
 o assess child and adolescent gender identity and sexual orientation safel
 y.\n•	Identify two strategies that promote awareness and respect of sexual 
 and gender diversity and establish an affirming environment for LGBTQ+ pat
 ients and families.\n\n<b>Who:</b> Training for clinicians and mental heal
 th professionals in the Greater Austin area\n<b>When:</b> Thursday\, Septe
 mber 19\, 2024\n<b>Time:</b> 5:30 to 6:30 PM CST\n<b>Where:</b> Virtual vi
 a Zoom\, you will receive a link to join the training via email\n<b>Cost:<
 /b> Professionals (LCSWs\, LPCs\, LMFTs\, Psychologists) needing to obtain
  CEUs: $25 per person\; non-CEU: $10 per person
DTSTART;TZID=America/Chicago:20240919T173000
DTEND;TZID=America/Chicago:20240919T183000
LOCATION:Virtual via Zoom
SUMMARY:Understanding Gender and Sexual Diversity Among Youth
END:VEVENT
END:VCALENDAR
