BEGIN:VCALENDAR
VERSION:2.0
PRODID:-//www.austinchildguidance.org//NONSGML kigkonsult.se iCalcreator 2.
 30.10//
CALSCALE:GREGORIAN
METHOD:PUBLISH
UID:bd58cc7f-e13e-443e-a432-93a243686cdb
X-WR-CALDESC:Este grupo proveerá un ambiente privado y seguro donde adultos
  podrán apoyarse uno al otro y conversar sobre temas de crianza. Este grup
 o de apoyo proporcionará a los padres y guardianes estrategias para respon
 der a comportamientos desafiantes\; fortalecer la relación entre padre e h
 ijo(a)\; practicar técnicas de autocuidado y dar elogios/cumplidos\; crear
  hábitos buenos en el uso de aparatos electrónicos\; fortalecer las tradic
 iones de familia y promover hábitos y rutinas para disminuir el estrés.\n
 \nQUIEN: Para los cuidadores de niños entre las edades de 5 a 17 años.\nCU
 ANDO: Los días Miércoles\, del 28 de agosto al 16 de octubre (8 sesiones) 
 \nHORA: 12:00pm - 1:00pm\nDONDE: En línea (virtual) \nCOSTO: $500 con desc
 uento según el ingreso de la familia.\n\nPor favor llene <a href='https://
 sp.austinchildguidance.org/que-hacemos/nuestros-servicios/terapia-de-grupo
 .html'>este formulario</a>\, marque la casilla en el nombre del grupo que 
 le interesa. Haremos un seguimiento con una llamada telefónica.
X-WR-RELCALID:320b01a10da3219e05855d4c842f610b
X-WR-TIMEZONE:America/Chicago
BEGIN:VTIMEZONE
TZID:America/Chicago
BEGIN:STANDARD
TZNAME:CST
DTSTART:20231105T020000
TZOFFSETFROM:-0500
TZOFFSETTO:-0600
RDATE:20241103T020000
RDATE:20251102T020000
END:STANDARD
BEGIN:DAYLIGHT
TZNAME:CDT
DTSTART:20240310T020000
TZOFFSETFROM:-0600
TZOFFSETTO:-0500
RDATE:20250309T020000
RDATE:20260308T020000
END:DAYLIGHT
END:VTIMEZONE
BEGIN:VEVENT
UID:06fd1442-4a57-402e-87f4-024f9f36ae7b
DTSTAMP:20260423T231701Z
DESCRIPTION:Este grupo proveerá un ambiente privado y seguro donde adultos 
 podrán apoyarse uno al otro y conversar sobre temas de crianza. Este grupo
  de apoyo proporcionará a los padres y guardianes estrategias para respond
 er a comportamientos desafiantes\; fortalecer la relación entre padre e hi
 jo(a)\; practicar técnicas de autocuidado y dar elogios/cumplidos\; crear 
 hábitos buenos en el uso de aparatos electrónicos\; fortalecer las tradici
 ones de familia y promover hábitos y rutinas para disminuir el estrés.\n\n
 QUIEN: Para los cuidadores de niños entre las edades de 5 a 17 años.\nCUAN
 DO: Los días Miércoles\, del 28 de agosto al 16 de octubre (8 sesiones) \n
 HORA: 12:00pm - 1:00pm\nDONDE: En línea (virtual) \nCOSTO: $500 con descue
 nto según el ingreso de la familia.\n\nPor favor llene <a href='https://sp
 .austinchildguidance.org/que-hacemos/nuestros-servicios/terapia-de-grupo.h
 tml'>este formulario</a>\, marque la casilla en el nombre del grupo que le
  interesa. Haremos un seguimiento con una llamada telefónica.
DTSTART;TZID=America/Chicago:20240918T050000
DTEND;TZID=America/Chicago:20240918T050001
LOCATION:En línea (virtual)
SUMMARY:Terapia de Grupo: Apoyo para Padres / Cuidadores / Tutores.
END:VEVENT
END:VCALENDAR
