BEGIN:VCALENDAR
VERSION:2.0
PRODID:-//www.austinchildguidance.org//NONSGML kigkonsult.se iCalcreator 2.
 30.10//
CALSCALE:GREGORIAN
METHOD:PUBLISH
UID:bc2cad54-5927-43ff-8fed-9dd0748495f2
X-WR-CALDESC:We're thrilled to announce that Austin Sign Co. is hosting the
  Thrive & Shine: Back-to-School Mental Health Fundraiser\, benefiting the 
 Austin Child Guidance Center (ACGC). Mark your calendars and join us for a
 n afternoon filled with community spirit\, local artisans\, and impactful 
 giving. \n\nFor only $15 ($20 at the door)\, access the artisan market wit
 h handcrafted jewelry\, prints\, books\, artwork\, and more! There will al
 so be FREE pottery classes as well as complimentary food and drinks. \n\nB
 uy your tickets today at https://www.austinsignco.com/thrive-shine-fundrai
 ser/
X-WR-RELCALID:4505704ef2bf22f9ab175caf67a063a8
X-WR-TIMEZONE:America/Chicago
BEGIN:VTIMEZONE
TZID:America/Chicago
BEGIN:STANDARD
TZNAME:CST
DTSTART:20231105T020000
TZOFFSETFROM:-0500
TZOFFSETTO:-0600
RDATE:20241103T020000
RDATE:20251102T020000
END:STANDARD
BEGIN:DAYLIGHT
TZNAME:CDT
DTSTART:20240310T020000
TZOFFSETFROM:-0600
TZOFFSETTO:-0500
RDATE:20250309T020000
END:DAYLIGHT
END:VTIMEZONE
BEGIN:VEVENT
UID:b98528d1-a411-48a1-ba40-d8d6456700d5
DTSTAMP:20260424T010127Z
DESCRIPTION:We're thrilled to announce that Austin Sign Co. is hosting the 
 Thrive & Shine: Back-to-School Mental Health Fundraiser\, benefiting the A
 ustin Child Guidance Center (ACGC). Mark your calendars and join us for an
  afternoon filled with community spirit\, local artisans\, and impactful g
 iving. \n\nFor only $15 ($20 at the door)\, access the artisan market with
  handcrafted jewelry\, prints\, books\, artwork\, and more! There will als
 o be FREE pottery classes as well as complimentary food and drinks. \n\nBu
 y your tickets today at https://www.austinsignco.com/thrive-shine-fundrais
 er/
DTSTART;TZID=America/Chicago:20240831T160000
DTEND;TZID=America/Chicago:20240831T183000
LOCATION:9012 Research Blvd Suite C-9 \, Austin\, TX 78758 US
SUMMARY:Thrive & Shine: Back to School Mental Health Fundraiser
END:VEVENT
END:VCALENDAR
