BEGIN:VCALENDAR
VERSION:2.0
PRODID:-//www.austinchildguidance.org//NONSGML kigkonsult.se iCalcreator 2.
 30.10//
CALSCALE:GREGORIAN
METHOD:PUBLISH
UID:c0a18c35-8c53-4818-bda3-810417dffecb
X-WR-CALDESC:In this workshop\, caregivers will learn about general guideli
 nes for online safety. Caregivers will leave this presentation with knowle
 dge of what cyberbullying is\, in addition to learning online safety tips 
 and recommendations for elementary-aged children and adolescents.\n\n<b>Wh
 o:</b> 	Caregivers for children ages 5-17\n<b>When:</b> 	 Wednesday\, August
  7\, 2024\n<b>Time:</b> 	5:30 PM – 7:00 PM\n<b>Where:</b> 	ACGC\, 810 W. 45t
 h Street\, Austin\, TX 78751 \n<b>Cost:</b> 	$20.\n<b>Certificate of Comple
 tion:</b> Available upon request
X-WR-RELCALID:1fe01dc4bb5129fa8cc34f1c02197dc6
X-WR-TIMEZONE:America/Chicago
BEGIN:VTIMEZONE
TZID:America/Chicago
BEGIN:STANDARD
TZNAME:CST
DTSTART:20231105T020000
TZOFFSETFROM:-0500
TZOFFSETTO:-0600
RDATE:20241103T020000
RDATE:20251102T020000
END:STANDARD
BEGIN:DAYLIGHT
TZNAME:CDT
DTSTART:20240310T020000
TZOFFSETFROM:-0600
TZOFFSETTO:-0500
RDATE:20250309T020000
END:DAYLIGHT
END:VTIMEZONE
BEGIN:VEVENT
UID:db649d2e-a1d8-4590-9946-fc908a004282
DTSTAMP:20260424T005755Z
DESCRIPTION:In this workshop\, caregivers will learn about general guidelin
 es for online safety. Caregivers will leave this presentation with knowled
 ge of what cyberbullying is\, in addition to learning online safety tips a
 nd recommendations for elementary-aged children and adolescents.\n\n<b>Who
 :</b> 	Caregivers for children ages 5-17\n<b>When:</b> 	 Wednesday\, August 
 7\, 2024\n<b>Time:</b> 	5:30 PM – 7:00 PM\n<b>Where:</b> 	ACGC\, 810 W. 45th
  Street\, Austin\, TX 78751 \n<b>Cost:</b> 	$20.\n<b>Certificate of Complet
 ion:</b> Available upon request
DTSTART;TZID=America/Chicago:20240807T173000
DTEND;TZID=America/Chicago:20240807T190000
LOCATION:810 W 45th Street\, Austin\, TX 78751 US
SUMMARY:Internet Safety for Kids and Teens
END:VEVENT
END:VCALENDAR
