BEGIN:VCALENDAR
VERSION:2.0
PRODID:-//www.austinchildguidance.org//NONSGML kigkonsult.se iCalcreator 2.
 30.10//
CALSCALE:GREGORIAN
METHOD:PUBLISH
UID:13031dfd-7af1-4ed6-8382-3708800a028c
X-WR-CALDESC:
X-WR-RELCALID:2c38ac82d68ade9ce6fc79efafdef9b0
X-WR-TIMEZONE:America/Chicago
BEGIN:VTIMEZONE
TZID:America/Chicago
BEGIN:STANDARD
TZNAME:CST
DTSTART:20231105T020000
TZOFFSETFROM:-0500
TZOFFSETTO:-0600
RDATE:20241103T020000
RDATE:20251102T020000
END:STANDARD
BEGIN:DAYLIGHT
TZNAME:CDT
DTSTART:20240310T020000
TZOFFSETFROM:-0600
TZOFFSETTO:-0500
RDATE:20250309T020000
END:DAYLIGHT
END:VTIMEZONE
BEGIN:VEVENT
UID:83b8eb2c-57a6-4865-8e93-6df26879048d
DTSTAMP:20260424T004801Z
DESCRIPTION:
DTSTART;TZID=America/Chicago:20240802T050000
DTEND;TZID=America/Chicago:20240802T050001
LOCATION:
SUMMARY:Deadline for Phyllis Richards Icon for Youth 2024 Nominations
END:VEVENT
END:VCALENDAR
