BEGIN:VCALENDAR
VERSION:2.0
PRODID:-//www.austinchildguidance.org//NONSGML kigkonsult.se iCalcreator 2.
 30.10//
CALSCALE:GREGORIAN
METHOD:PUBLISH
UID:49acfb7d-d9d9-4e22-be91-fbc8a0028e6a
X-WR-CALDESC:En este taller\, los cuidadores aprenderán sobre diferentes ti
 pos de bullying que puede ocurrir entre niños(as). Al terminar esta presen
 tación\, los cuidadores tendrán el conocimiento de factores de riesgo y se
 ñales de advertencia hacia el bullying\, así como estrategias para navegar
  este problema social en nuestra comunidad.\n\n<b>Quiénes:</b> 	Cuidadores 
 de niños(as)y adolescentes de 5 a 17 años.\n<b>Cuándo:</b> 	 Miércoles\, Ju
 ly 24th\, 2024\n<b>Hora:</b> 	 5:30 PM – 7:00 PM\n<b>Dónde:</b> 	Y en linea.
  Ud. recibirá instrucciones por correo electrónico.  \n<b>Costo:</b> 	20.\n
 <b>Certificado de finalización:</b> Disponible previa solicitud.
X-WR-RELCALID:18562aac9c0d67c7ff1c551eaf950351
X-WR-TIMEZONE:America/Chicago
BEGIN:VTIMEZONE
TZID:America/Chicago
BEGIN:STANDARD
TZNAME:CST
DTSTART:20231105T020000
TZOFFSETFROM:-0500
TZOFFSETTO:-0600
RDATE:20241103T020000
RDATE:20251102T020000
END:STANDARD
BEGIN:DAYLIGHT
TZNAME:CDT
DTSTART:20240310T020000
TZOFFSETFROM:-0600
TZOFFSETTO:-0500
RDATE:20250309T020000
END:DAYLIGHT
END:VTIMEZONE
BEGIN:VEVENT
UID:2bd59b70-b938-4e0c-ab8c-1174b7ab0045
DTSTAMP:20260424T022858Z
DESCRIPTION:En este taller\, los cuidadores aprenderán sobre diferentes tip
 os de bullying que puede ocurrir entre niños(as). Al terminar esta present
 ación\, los cuidadores tendrán el conocimiento de factores de riesgo y señ
 ales de advertencia hacia el bullying\, así como estrategias para navegar 
 este problema social en nuestra comunidad.\n\n<b>Quiénes:</b> 	Cuidadores d
 e niños(as)y adolescentes de 5 a 17 años.\n<b>Cuándo:</b> 	 Miércoles\, Jul
 y 24th\, 2024\n<b>Hora:</b> 	 5:30 PM – 7:00 PM\n<b>Dónde:</b> 	Y en linea. 
 Ud. recibirá instrucciones por correo electrónico.  \n<b>Costo:</b> 	20.\n<
 b>Certificado de finalización:</b> Disponible previa solicitud.
DTSTART;TZID=America/Chicago:20240724T173000
DTEND;TZID=America/Chicago:20240724T190000
LOCATION:https://teams.microsoft.com/l/meetup-join/19%3ameeting_YmM0MDZjYzU
 tODMxYi00N2E0LWExMTItYzhlZDliNmE1N2Q0%40thread.v2/0?context=%7b%22Tid%22%3
 a%228edb823a-8a96-4d0b-b89b-b851451542f2%22%2c%22Oid%22%3a%22a37e4152-c875
 -405f-a1b1-881c83929839%22%7d
SUMMARY:Taller sobre Bullying
END:VEVENT
END:VCALENDAR
