BEGIN:VCALENDAR
VERSION:2.0
PRODID:-//www.austinchildguidance.org//NONSGML kigkonsult.se iCalcreator 2.
 30.10//
CALSCALE:GREGORIAN
METHOD:PUBLISH
UID:db582437-0953-4293-9d5b-f70eae50e206
X-WR-CALDESC:Este taller es para cuidadores que desean aprender más acerca 
 de la salud mental en niños y adolescentes. Los cuidadores aprenderán acer
 ca de los desafíos de salud mental más comunes que enfrentan los niños y a
 dolescentes\, cómo apoyar a sus hijos con su salud mental y los servicios 
 de apoyo disponibles si tienen una preocupación por su hijo.\n\n<b>Quiénes
 :</b>	Padres y cuidadores de niños(as) y adolescentes de 5-17 años de edad.
 \n<b>Cuándo:</b> 	Jueves\, 11 de julio del 2024 \n<b>Hora:</b> 	5:30 PM - 7:
 00 PM\n<b>Dónde:</b> 	En persona\, en las oficinas de ACGC\, 810 W 45th. St
 reet\, Austin\, TX 78751. Y en linea. Ud. recibirá instrucciones por corre
 o electrónico.\n<b>Costo:</b>      20.\n<b>Certificado de finalización:</b
 > Disponible previa solicitud.
X-WR-RELCALID:2c72e34ffd47181a2d9ebc1d34ceb514
X-WR-TIMEZONE:America/Chicago
BEGIN:VTIMEZONE
TZID:America/Chicago
BEGIN:STANDARD
TZNAME:CST
DTSTART:20231105T020000
TZOFFSETFROM:-0500
TZOFFSETTO:-0600
RDATE:20241103T020000
RDATE:20251102T020000
END:STANDARD
BEGIN:DAYLIGHT
TZNAME:CDT
DTSTART:20240310T020000
TZOFFSETFROM:-0600
TZOFFSETTO:-0500
RDATE:20250309T020000
END:DAYLIGHT
END:VTIMEZONE
BEGIN:VEVENT
UID:849346f7-8fbc-4b95-9052-cfa8098ea912
DTSTAMP:20260424T023636Z
DESCRIPTION:Este taller es para cuidadores que desean aprender más acerca d
 e la salud mental en niños y adolescentes. Los cuidadores aprenderán acerc
 a de los desafíos de salud mental más comunes que enfrentan los niños y ad
 olescentes\, cómo apoyar a sus hijos con su salud mental y los servicios d
 e apoyo disponibles si tienen una preocupación por su hijo.\n\n<b>Quiénes:
 </b>	Padres y cuidadores de niños(as) y adolescentes de 5-17 años de edad.
 \n<b>Cuándo:</b> 	Jueves\, 11 de julio del 2024 \n<b>Hora:</b> 	5:30 PM - 7:
 00 PM\n<b>Dónde:</b> 	En persona\, en las oficinas de ACGC\, 810 W 45th. St
 reet\, Austin\, TX 78751. Y en linea. Ud. recibirá instrucciones por corre
 o electrónico.\n<b>Costo:</b>      20.\n<b>Certificado de finalización:</b
 > Disponible previa solicitud.
DTSTART;TZID=America/Chicago:20240711T173000
DTEND;TZID=America/Chicago:20240711T190000
LOCATION:810 W 45th. Street\, Austin\, TX 78751 US
SUMMARY:Salud Mental de Niños y Adolescentes 101
END:VEVENT
END:VCALENDAR
