BEGIN:VCALENDAR
VERSION:2.0
PRODID:-//www.austinchildguidance.org//NONSGML kigkonsult.se iCalcreator 2.
 30.10//
CALSCALE:GREGORIAN
METHOD:PUBLISH
UID:9f98f177-c003-4aa3-bfbc-76e5ee5d2009
X-WR-CALDESC:In this workshop\, caregivers will learn about the impact of m
 odeling healthy communication skills with their children. Caregivers will 
 leave this presentation with strategies to respond to their children’s emo
 tions\, engage cooperation and problem solve when difficult behaviors do a
 rise.\n\n<b>Who:</b> 	Caregivers for children ages 5-14\n<b>When:</b> 	 Wedn
 esday\, July 10th\, 2024\n<b>Time:</b> 	12:00 PM – 1:30 PM\n<b>Where:</b> 	V
 irtual. You will receive an email with further information on how you can 
 join this workshop. \n<b>Cost:</b> 	$20.\n<b>Certificate of Completion:</b>
  Available upon request
X-WR-RELCALID:b474007c4d1ece934fb6cb1ff9806236
X-WR-TIMEZONE:America/Chicago
BEGIN:VTIMEZONE
TZID:America/Chicago
BEGIN:STANDARD
TZNAME:CST
DTSTART:20231105T020000
TZOFFSETFROM:-0500
TZOFFSETTO:-0600
RDATE:20241103T020000
RDATE:20251102T020000
END:STANDARD
BEGIN:DAYLIGHT
TZNAME:CDT
DTSTART:20240310T020000
TZOFFSETFROM:-0600
TZOFFSETTO:-0500
RDATE:20250309T020000
END:DAYLIGHT
END:VTIMEZONE
BEGIN:VEVENT
UID:0fd475b5-7c36-451f-a152-1fd22438b529
DTSTAMP:20260424T022905Z
DESCRIPTION:In this workshop\, caregivers will learn about the impact of mo
 deling healthy communication skills with their children. Caregivers will l
 eave this presentation with strategies to respond to their children’s emot
 ions\, engage cooperation and problem solve when difficult behaviors do ar
 ise.\n\n<b>Who:</b> 	Caregivers for children ages 5-14\n<b>When:</b> 	 Wedne
 sday\, July 10th\, 2024\n<b>Time:</b> 	12:00 PM – 1:30 PM\n<b>Where:</b> 	Vi
 rtual. You will receive an email with further information on how you can j
 oin this workshop. \n<b>Cost:</b> 	$20.\n<b>Certificate of Completion:</b> 
 Available upon request
DTSTART;TZID=America/Chicago:20240710T120000
DTEND;TZID=America/Chicago:20240710T133000
LOCATION:https://teams.microsoft.com/l/meetup-join/19%3Ameeting_NTg3NzNhZGQ
 tNjQwZS00NWQ3LWIzMmUtZTQ3NTVjZWIwOTQ2%40thread.v2/0?context=%7B%22Tid%22%3
 A%228edb823a-8a96-4d0b-b89b-b851451542f2%22%2C%22Oid%22%3A%22a37e4152-c875
 -405f-a1b1-881c83929839%22%7D
SUMMARY:Effective Parent-Child Communication
END:VEVENT
END:VCALENDAR
