BEGIN:VCALENDAR
VERSION:2.0
PRODID:-//www.austinchildguidance.org//NONSGML kigkonsult.se iCalcreator 2.
 30.10//
CALSCALE:GREGORIAN
METHOD:PUBLISH
UID:78a78911-6258-4f6f-89e9-79f53ca5ff29
X-WR-CALDESC:Adolescence is a period of significant development and change.
  In this workshop\, caregivers will learn about common stressors in this d
 evelopmental period\, typical signs of stress\, and walk away with tools o
 n how to help their teens navigate these challenges.\n\n<b>Who:</b> 	Caregi
 vers for children ages 5-17\n<b>When:</b> 	 Wednesday\, June 26\, 2024\n<b>
 Time:</b> 	5:30 PM – 7:00 PM\n<b>Where:</b> 	ACGC\, 810 W. 45th Street\, Aus
 tin\, TX 78751 \n<b>Cost:</b> 	$20.\n<b>Certificate of Completion:</b> Avai
 lable upon request
X-WR-RELCALID:683d975b55ae915bff5df28d55bb4468
X-WR-TIMEZONE:America/Chicago
BEGIN:VTIMEZONE
TZID:America/Chicago
BEGIN:STANDARD
TZNAME:CST
DTSTART:20231105T020000
TZOFFSETFROM:-0500
TZOFFSETTO:-0600
RDATE:20241103T020000
RDATE:20251102T020000
END:STANDARD
BEGIN:DAYLIGHT
TZNAME:CDT
DTSTART:20240310T020000
TZOFFSETFROM:-0600
TZOFFSETTO:-0500
RDATE:20250309T020000
END:DAYLIGHT
END:VTIMEZONE
BEGIN:VEVENT
UID:9882dac7-8764-403b-8b08-bc6f773ccca6
DTSTAMP:20260424T040943Z
DESCRIPTION:Adolescence is a period of significant development and change. 
 In this workshop\, caregivers will learn about common stressors in this de
 velopmental period\, typical signs of stress\, and walk away with tools on
  how to help their teens navigate these challenges.\n\n<b>Who:</b> 	Caregiv
 ers for children ages 5-17\n<b>When:</b> 	 Wednesday\, June 26\, 2024\n<b>T
 ime:</b> 	5:30 PM – 7:00 PM\n<b>Where:</b> 	ACGC\, 810 W. 45th Street\, Aust
 in\, TX 78751 \n<b>Cost:</b> 	$20.\n<b>Certificate of Completion:</b> Avail
 able upon request
DTSTART;TZID=America/Chicago:20240626T173000
DTEND;TZID=America/Chicago:20240626T190000
LOCATION:810 W 45th Street\, Austin\, TX 78751 US
SUMMARY:Helping Your Adolescent Cope with Stress
END:VEVENT
END:VCALENDAR
