BEGIN:VCALENDAR
VERSION:2.0
PRODID:-//www.austinchildguidance.org//NONSGML kigkonsult.se iCalcreator 2.
 30.10//
CALSCALE:GREGORIAN
METHOD:PUBLISH
UID:8653c083-0c45-4658-81e2-a69bebdfc4ce
X-WR-CALDESC:Is your teen hard on themselves? Do they struggle to handle pa
 inful feelings? This group will help your child learn mindfulness and self
 -compassion strategies. These strategies will help them deal more effectiv
 ely with painful feelings and stress\, learn to be kinder to themselves\, 
 and connect with others.\n\nWHO: Teens ages 14 to 16\nWHEN: Thursday 6:00-
 7:00pm\, from March 21st\, 2024 - May 9th\, 2024 (8 sessions)\nWHERE: In p
 erson group at ACGC\nCOST: $500\, with sliding scale.\n\nPlease fill out <
 a href='https://www.austinchildguidance.org/what-we-do/our-services/group-
 therapy.html'>this form</a>\, place a check mark on the group name you are
  interested in. We will follow up with a phone call.
X-WR-RELCALID:e8e4572fc7ffebf93bda1735daeec71b
X-WR-TIMEZONE:America/Chicago
BEGIN:VTIMEZONE
TZID:America/Chicago
BEGIN:STANDARD
TZNAME:CST
DTSTART:20231105T020000
TZOFFSETFROM:-0500
TZOFFSETTO:-0600
RDATE:20241103T020000
END:STANDARD
BEGIN:DAYLIGHT
TZNAME:CDT
DTSTART:20240310T020000
TZOFFSETFROM:-0600
TZOFFSETTO:-0500
RDATE:20250309T020000
END:DAYLIGHT
END:VTIMEZONE
BEGIN:VEVENT
UID:bd751931-f109-4889-9f98-0390a4066a7b
DTSTAMP:20260424T071504Z
DESCRIPTION:Is your teen hard on themselves? Do they struggle to handle pai
 nful feelings? This group will help your child learn mindfulness and self-
 compassion strategies. These strategies will help them deal more effective
 ly with painful feelings and stress\, learn to be kinder to themselves\, a
 nd connect with others.\n\nWHO: Teens ages 14 to 16\nWHEN: Thursday 6:00-7
 :00pm\, from March 21st\, 2024 - May 9th\, 2024 (8 sessions)\nWHERE: In pe
 rson group at ACGC\nCOST: $500\, with sliding scale.\n\nPlease fill out <a
  href='https://www.austinchildguidance.org/what-we-do/our-services/group-t
 herapy.html'>this form</a>\, place a check mark on the group name you are 
 interested in. We will follow up with a phone call.
DTSTART;TZID=America/Chicago:20240425T180000
DTEND;TZID=America/Chicago:20240425T190000
LOCATION:78751\, 810 W 45th Street\, Austin\, TX 78751 US
SUMMARY:CANCELLED - Teen Self-Compassion and Mindfulness Group
END:VEVENT
END:VCALENDAR
