BEGIN:VCALENDAR
VERSION:2.0
PRODID:-//www.austinchildguidance.org//NONSGML kigkonsult.se iCalcreator 2.
 30.10//
CALSCALE:GREGORIAN
METHOD:PUBLISH
UID:f0c2e96e-1a5c-4762-850a-abddf8aebd75
X-WR-CALDESC:Take an hour to focus on your well-being. Get and give support
 . This group will provide a private and comfortable environment where care
 givers can support each other\, discuss parenting challenges\, and learn s
 trategies to respond to challenging behaviors. Caregivers will explore way
 s to reduce your own stress\, as well as your children’s.\n\nWHO: Caregive
 rs of children ages 7 - 13.\nWHEN: Wednesdays\, 6:00-7:00pm\, from March 2
 7 to May 1\, 2024 (6 weeks group)\nWHERE: You can join this group in perso
 n at: 810 W. 45th Street Austin\, TX 78751\nCOST: $375 with sliding scale.
 \n\nPlease fill out <a href='https://www.austinchildguidance.org/what-we-d
 o/our-services/group-therapy.html'>this form</a>\, place a check mark on t
 he group name you are interested in. We will follow up with a phone call.
X-WR-RELCALID:c45258698229f275f4cb16801a1eed1d
X-WR-TIMEZONE:America/Chicago
BEGIN:VTIMEZONE
TZID:America/Chicago
BEGIN:STANDARD
TZNAME:CST
DTSTART:20231105T020000
TZOFFSETFROM:-0500
TZOFFSETTO:-0600
RDATE:20241103T020000
END:STANDARD
BEGIN:DAYLIGHT
TZNAME:CDT
DTSTART:20240310T020000
TZOFFSETFROM:-0600
TZOFFSETTO:-0500
RDATE:20250309T020000
END:DAYLIGHT
END:VTIMEZONE
BEGIN:VEVENT
UID:d7531945-8cc1-4f43-82e8-d7ec5f2cbe8d
DTSTAMP:20260424T071514Z
DESCRIPTION:Take an hour to focus on your well-being. Get and give support.
  This group will provide a private and comfortable environment where careg
 ivers can support each other\, discuss parenting challenges\, and learn st
 rategies to respond to challenging behaviors. Caregivers will explore ways
  to reduce your own stress\, as well as your children’s.\n\nWHO: Caregiver
 s of children ages 7 - 13.\nWHEN: Wednesdays\, 6:00-7:00pm\, from March 27
  to May 1\, 2024 (6 weeks group)\nWHERE: You can join this group in person
  at: 810 W. 45th Street Austin\, TX 78751\nCOST: $375 with sliding scale.
 \n\nPlease fill out <a href='https://www.austinchildguidance.org/what-we-d
 o/our-services/group-therapy.html'>this form</a>\, place a check mark on t
 he group name you are interested in. We will follow up with a phone call.
DTSTART;TZID=America/Chicago:20240417T180000
DTEND;TZID=America/Chicago:20240417T190000
LOCATION:810 W 45th Street\, Austin\, TX 78751 US
SUMMARY:CANCELLED - Caregiver Support Group
END:VEVENT
END:VCALENDAR
