BEGIN:VCALENDAR
VERSION:2.0
PRODID:-//www.austinchildguidance.org//NONSGML kigkonsult.se iCalcreator 2.
 30.10//
CALSCALE:GREGORIAN
METHOD:PUBLISH
UID:d9e12845-5850-4ca6-aebe-92f8f9c925a9
X-WR-CALDESC:In this workshop\, caregivers will learn about general guideli
 nes for online safety. Caregivers will leave this presentation with knowle
 dge of what cyberbullying is\, in addition to learning online safety tips 
 and recommendations for elementary-aged children and adolescents.\n\n<b>Wh
 o:</b> 	Caregivers for children ages 5-17\n<b>When:</b> 	 Wednesday\, April 
 10th\, 2024\n<b>Time:</b> 	5:30 PM – 7:00 PM\n<b>Where:</b> 	In-person at <a
  href='https://maps.app.goo.gl/6FURHQhFpqXj6EUF8'> 810 W. 45th Street Aust
 in\, TX 78751</a>\n<b>Cost:</b> 	Free\, thanks to ACGC supporters!\n<b>Cert
 ificate of Completion:</b> Available upon request.
X-WR-RELCALID:552e83f83e1e1296ed7b63eba740c00b
X-WR-TIMEZONE:America/Chicago
BEGIN:VTIMEZONE
TZID:America/Chicago
BEGIN:STANDARD
TZNAME:CST
DTSTART:20231105T020000
TZOFFSETFROM:-0500
TZOFFSETTO:-0600
RDATE:20241103T020000
END:STANDARD
BEGIN:DAYLIGHT
TZNAME:CDT
DTSTART:20240310T020000
TZOFFSETFROM:-0600
TZOFFSETTO:-0500
RDATE:20250309T020000
END:DAYLIGHT
END:VTIMEZONE
BEGIN:VEVENT
UID:7b552969-1572-4fd8-919f-07a9ffb34081
DTSTAMP:20260424T072251Z
DESCRIPTION:In this workshop\, caregivers will learn about general guidelin
 es for online safety. Caregivers will leave this presentation with knowled
 ge of what cyberbullying is\, in addition to learning online safety tips a
 nd recommendations for elementary-aged children and adolescents.\n\n<b>Who
 :</b> 	Caregivers for children ages 5-17\n<b>When:</b> 	 Wednesday\, April 1
 0th\, 2024\n<b>Time:</b> 	5:30 PM – 7:00 PM\n<b>Where:</b> 	In-person at <a 
 href='https://maps.app.goo.gl/6FURHQhFpqXj6EUF8'> 810 W. 45th Street Austi
 n\, TX 78751</a>\n<b>Cost:</b> 	Free\, thanks to ACGC supporters!\n<b>Certi
 ficate of Completion:</b> Available upon request.
DTSTART;TZID=America/Chicago:20240410T173000
DTEND;TZID=America/Chicago:20240410T190000
LOCATION:810 W 45th. Street\, Austin\, TX 78751 US
SUMMARY:Internet Safety for Kids and Teens
END:VEVENT
END:VCALENDAR
