BEGIN:VCALENDAR
VERSION:2.0
PRODID:-//www.austinchildguidance.org//NONSGML kigkonsult.se iCalcreator 2.
 30.10//
CALSCALE:GREGORIAN
METHOD:PUBLISH
UID:dacc075d-e601-4558-b919-08e56d75b26f
X-WR-CALDESC:Cuando niños(as) tienen un tiempo difícil para manejar sus emo
 ciones puede surgir en un colapso emocional o rabieta.  Colapso emocionale
 s y rabietas pueden ser prevenidas\, manejables\, y tratadas efectivamente
 .  \n\nA través de este taller\, Ud. será capaz de:\n•	Reconocer la diferen
 cia entre un colapso emocional y rabietas \n•	Aprender herramientas para re
 sponder y prevenir colapso emocionales y rabietas\, y\n•	Obtener recursos c
 uando apoyo adicional sea necesario.  \n\n<b>Quiénes:</b>	Padres y cuidador
 es de niños(as) y adolescentes de 5-12 años de edad.\n<b>Cuándo:</b> 	Miérc
 oles\, 20 de marzo del 2024 \n<b>Hora:</b> 	5:30 PM - 7:00 PM\n<b>Dónde:</b
 > 	En persona\, en las oficinas de ACGC\, 810 W 45th. Street\, Austin\, TX 
 78751. \n<b>Costo:</b>      Gratis!\n<b>Certificado de finalización:</b> D
 isponible previa solicitud
X-WR-RELCALID:e99ea0dbe583f0f1419a7796ea0f91ed
X-WR-TIMEZONE:America/Chicago
BEGIN:VTIMEZONE
TZID:America/Chicago
BEGIN:STANDARD
TZNAME:CST
DTSTART:20231105T020000
TZOFFSETFROM:-0500
TZOFFSETTO:-0600
RDATE:20241103T020000
END:STANDARD
BEGIN:DAYLIGHT
TZNAME:CDT
DTSTART:20240310T020000
TZOFFSETFROM:-0600
TZOFFSETTO:-0500
RDATE:20250309T020000
END:DAYLIGHT
END:VTIMEZONE
BEGIN:VEVENT
UID:f6f6a0de-5280-4f72-9758-d3acc88baf0d
DTSTAMP:20260424T090143Z
DESCRIPTION:Cuando niños(as) tienen un tiempo difícil para manejar sus emoc
 iones puede surgir en un colapso emocional o rabieta.  Colapso emocionales
  y rabietas pueden ser prevenidas\, manejables\, y tratadas efectivamente.
   \n\nA través de este taller\, Ud. será capaz de:\n•	Reconocer la diferenc
 ia entre un colapso emocional y rabietas \n•	Aprender herramientas para res
 ponder y prevenir colapso emocionales y rabietas\, y\n•	Obtener recursos cu
 ando apoyo adicional sea necesario.  \n\n<b>Quiénes:</b>	Padres y cuidadore
 s de niños(as) y adolescentes de 5-12 años de edad.\n<b>Cuándo:</b> 	Miérco
 les\, 20 de marzo del 2024 \n<b>Hora:</b> 	5:30 PM - 7:00 PM\n<b>Dónde:</b>
  	En persona\, en las oficinas de ACGC\, 810 W 45th. Street\, Austin\, TX 7
 8751. \n<b>Costo:</b>      Gratis!\n<b>Certificado de finalización:</b> Di
 sponible previa solicitud
DTSTART;TZID=America/Chicago:20240320T173000
DTEND;TZID=America/Chicago:20240320T190000
LOCATION:810 W 45th. Street\, Austin\, TX 78751 US
SUMMARY:Manejando Colapso Emocionales y Rabietas
END:VEVENT
END:VCALENDAR
