BEGIN:VCALENDAR
VERSION:2.0
PRODID:-//www.austinchildguidance.org//NONSGML kigkonsult.se iCalcreator 2.
 30.10//
CALSCALE:GREGORIAN
METHOD:PUBLISH
UID:d7abd7c9-5364-49e5-be57-d94c003a2c6f
X-WR-CALDESC:In this workshop\, caregivers will learn about the impact of m
 odeling healthy communication skills with their children. Caregivers will 
 leave this presentation with strategies to respond to their children’s emo
 tions\, engage cooperation and problem solve when difficult behaviors do a
 rise.\n\n<b>Who:</b> 	Caregivers for children ages 5-17\n<b>When:</b> 	 Tues
 day\, March 12th\, 2024\n<b>Time:</b> 	5:00 PM – 6:30 PM\n<b>Where:</b> 	Hyb
 rid. In-Person at ACGC and online. You will receive an email with further 
 information on how you can join this workshop. \n<b>Cost:</b> 	Free\, thank
 s to ACGC supporters!
X-WR-RELCALID:b5134c62aeed54ef7a7e9f3fbd7729db
X-WR-TIMEZONE:America/Chicago
BEGIN:VTIMEZONE
TZID:America/Chicago
BEGIN:STANDARD
TZNAME:CST
DTSTART:20231105T020000
TZOFFSETFROM:-0500
TZOFFSETTO:-0600
RDATE:20241103T020000
END:STANDARD
BEGIN:DAYLIGHT
TZNAME:CDT
DTSTART:20240310T020000
TZOFFSETFROM:-0600
TZOFFSETTO:-0500
RDATE:20250309T020000
END:DAYLIGHT
END:VTIMEZONE
BEGIN:VEVENT
UID:b518b1c3-d66d-4c8b-b0b3-f67a659eb2da
DTSTAMP:20260424T085551Z
DESCRIPTION:In this workshop\, caregivers will learn about the impact of mo
 deling healthy communication skills with their children. Caregivers will l
 eave this presentation with strategies to respond to their children’s emot
 ions\, engage cooperation and problem solve when difficult behaviors do ar
 ise.\n\n<b>Who:</b> 	Caregivers for children ages 5-17\n<b>When:</b> 	 Tuesd
 ay\, March 12th\, 2024\n<b>Time:</b> 	5:00 PM – 6:30 PM\n<b>Where:</b> 	Hybr
 id. In-Person at ACGC and online. You will receive an email with further i
 nformation on how you can join this workshop. \n<b>Cost:</b> 	Free\, thanks
  to ACGC supporters!
DTSTART;TZID=America/Chicago:20240312T170000
DTEND;TZID=America/Chicago:20240312T183000
LOCATION:810 W 45th. Street\, Austin\, TX 78751 US
SUMMARY:Effective Parent-Child Communication
END:VEVENT
END:VCALENDAR
