BEGIN:VCALENDAR
VERSION:2.0
PRODID:-//www.austinchildguidance.org//NONSGML kigkonsult.se iCalcreator 2.
 30.10//
CALSCALE:GREGORIAN
METHOD:PUBLISH
UID:6aefa587-b5af-416f-875a-5441b3d54317
X-WR-CALDESC:In this workshop\, caregivers will learn about the different f
 orms of bullying that occur between children. Caregivers will leave this p
 resentation with knowledge of risk factors and warning signs of bullying\,
  as well as strategies for navigating this social problem in our community
 . \n\n<b>Who:</b> 	Caregivers for children ages 5-17\n<b>When:</b> 	 Thursda
 y\, March 7th\, 2024\n<b>Time:</b> 	 5:30 PM – 7:00 PM\n<b>Where:</b> 	In-pe
 rson. \n<b>Cost:</b> 	Free\, thanks to ACGC supporters!\n<b>Certificate of 
 Completion:</b> Available upon request.
X-WR-RELCALID:a88707e9c53cba1f2ae676e93a7115dc
X-WR-TIMEZONE:America/Chicago
BEGIN:VTIMEZONE
TZID:America/Chicago
BEGIN:STANDARD
TZNAME:CST
DTSTART:20231105T020000
TZOFFSETFROM:-0500
TZOFFSETTO:-0600
RDATE:20241103T020000
END:STANDARD
BEGIN:DAYLIGHT
TZNAME:CDT
DTSTART:20230312T020000
TZOFFSETFROM:-0600
TZOFFSETTO:-0500
RDATE:20240310T020000
RDATE:20250309T020000
END:DAYLIGHT
END:VTIMEZONE
BEGIN:VEVENT
UID:5e481dd4-0d98-4fa5-81ea-84a315e9c8a5
DTSTAMP:20260424T090020Z
DESCRIPTION:In this workshop\, caregivers will learn about the different fo
 rms of bullying that occur between children. Caregivers will leave this pr
 esentation with knowledge of risk factors and warning signs of bullying\, 
 as well as strategies for navigating this social problem in our community.
  \n\n<b>Who:</b> 	Caregivers for children ages 5-17\n<b>When:</b> 	 Thursday
 \, March 7th\, 2024\n<b>Time:</b> 	 5:30 PM – 7:00 PM\n<b>Where:</b> 	In-per
 son. \n<b>Cost:</b> 	Free\, thanks to ACGC supporters!\n<b>Certificate of C
 ompletion:</b> Available upon request.
DTSTART;TZID=America/Chicago:20240307T173000
DTEND;TZID=America/Chicago:20240307T190000
LOCATION:810 W 45th. Street\, Austin\, TX 78751 US
SUMMARY:Bullying Awareness
END:VEVENT
END:VCALENDAR
