BEGIN:VCALENDAR
VERSION:2.0
PRODID:-//www.austinchildguidance.org//NONSGML kigkonsult.se iCalcreator 2.
 30.10//
CALSCALE:GREGORIAN
METHOD:PUBLISH
UID:a1ca3a02-4435-4061-99c9-0f9638ecbadb
X-WR-CALDESC:El divorcio es considerado una de las experiencias adversas co
 munes en niños(as) y puede ser un tiempo difícil para toda la familia.  En
  este taller\, cuidadores aprenderán respuestas comunes en niños(as)acerca
  de la separación y divorcio\, estrategias para platicar y apoyar a los ni
 ños(as)\, y consejos para la crianza compartida. \n\n<b>Quién:</b> Cuidado
 res de niños(as) y adolescentes de 5 a 17 años.\n<b>Cuándo:</b> Martes\, f
 ebrero 27th\, 2024\n<b>Hora:</b> 5:30 PM – 7:00 PM\n<b>Where:</b> En perso
 na\, en las oficinas de ACGC\, 810 W 45th. Street\, Austin\, TX 78751\n<b>
 Cost: </b>Gratis.\n<b>Certificado de finalización: </b> Disponible previa 
 solicitud\n
X-WR-RELCALID:0f64b120a8f59075ae9cad71aa9e1906
X-WR-TIMEZONE:America/Chicago
BEGIN:VTIMEZONE
TZID:America/Chicago
BEGIN:STANDARD
TZNAME:CST
DTSTART:20231105T020000
TZOFFSETFROM:-0500
TZOFFSETTO:-0600
RDATE:20241103T020000
END:STANDARD
BEGIN:DAYLIGHT
TZNAME:CDT
DTSTART:20230312T020000
TZOFFSETFROM:-0600
TZOFFSETTO:-0500
RDATE:20240310T020000
RDATE:20250309T020000
END:DAYLIGHT
END:VTIMEZONE
BEGIN:VEVENT
UID:649c52d4-6841-4a0f-9524-0ef084c21366
DTSTAMP:20260424T103556Z
DESCRIPTION:El divorcio es considerado una de las experiencias adversas com
 unes en niños(as) y puede ser un tiempo difícil para toda la familia.  En 
 este taller\, cuidadores aprenderán respuestas comunes en niños(as)acerca 
 de la separación y divorcio\, estrategias para platicar y apoyar a los niñ
 os(as)\, y consejos para la crianza compartida. \n\n<b>Quién:</b> Cuidador
 es de niños(as) y adolescentes de 5 a 17 años.\n<b>Cuándo:</b> Martes\, fe
 brero 27th\, 2024\n<b>Hora:</b> 5:30 PM – 7:00 PM\n<b>Where:</b> En person
 a\, en las oficinas de ACGC\, 810 W 45th. Street\, Austin\, TX 78751\n<b>C
 ost: </b>Gratis.\n<b>Certificado de finalización: </b> Disponible previa s
 olicitud\n
DTSTART;TZID=America/Chicago:20240227T173000
DTEND;TZID=America/Chicago:20240227T190000
LOCATION:810 W 45th. Street\, Austin\, TX 78751 US
SUMMARY:Apoyando a los Niños Durante Separación y Divorcio
END:VEVENT
END:VCALENDAR
