BEGIN:VCALENDAR
VERSION:2.0
PRODID:-//www.austinchildguidance.org//NONSGML kigkonsult.se iCalcreator 2.
 30.10//
CALSCALE:GREGORIAN
METHOD:PUBLISH
UID:e664ca51-a1c9-486e-bd40-5327dae59045
X-WR-CALDESC:This workshop is for caregivers that want to learn more about 
 mental health in children and teens. Caregivers will learn about the most 
 common mental health struggles that children and teens face\, how to suppo
 rt their children with their mental health\, and the available support ser
 vices if they have a concern about their child.\n\n<b>Who:</b> 	Caregivers 
 for children ages 5-17\n<b>When:</b> 	Tuesday\, February 20\, 2024\n<b>Time
 :</b> 	5:30 PM – 7:00 PM\n<b>Where:</b> 	In-Person at ACGC \n<b>Cost:</b> 	Fr
 ee\, thanks to ACGC supporters!\n<b>Certificate of Completion:</b> Availab
 le upon request.
X-WR-RELCALID:41f96a4b4bb7d2fc0972f51ef661f36d
X-WR-TIMEZONE:America/Chicago
BEGIN:VTIMEZONE
TZID:America/Chicago
BEGIN:STANDARD
TZNAME:CST
DTSTART:20231105T020000
TZOFFSETFROM:-0500
TZOFFSETTO:-0600
RDATE:20241103T020000
END:STANDARD
BEGIN:DAYLIGHT
TZNAME:CDT
DTSTART:20230312T020000
TZOFFSETFROM:-0600
TZOFFSETTO:-0500
RDATE:20240310T020000
RDATE:20250309T020000
END:DAYLIGHT
END:VTIMEZONE
BEGIN:VEVENT
UID:8e32fabe-5e51-4053-ad95-1cc55ab9596c
DTSTAMP:20260424T103524Z
DESCRIPTION:This workshop is for caregivers that want to learn more about m
 ental health in children and teens. Caregivers will learn about the most c
 ommon mental health struggles that children and teens face\, how to suppor
 t their children with their mental health\, and the available support serv
 ices if they have a concern about their child.\n\n<b>Who:</b> 	Caregivers f
 or children ages 5-17\n<b>When:</b> 	Tuesday\, February 20\, 2024\n<b>Time:
 </b> 	5:30 PM – 7:00 PM\n<b>Where:</b> 	In-Person at ACGC \n<b>Cost:</b> 	Fre
 e\, thanks to ACGC supporters!\n<b>Certificate of Completion:</b> Availabl
 e upon request.
DTSTART;TZID=America/Chicago:20240220T173000
DTEND;TZID=America/Chicago:20240220T190000
LOCATION:810 W 45th. Street\, Austin\, TX 78751 US
SUMMARY:Kids and Teens Mental Health 101
END:VEVENT
END:VCALENDAR
