BEGIN:VCALENDAR
VERSION:2.0
PRODID:-//www.austinchildguidance.org//NONSGML kigkonsult.se iCalcreator 2.
 30.10//
CALSCALE:GREGORIAN
METHOD:PUBLISH
UID:0d3d2daf-fbe9-4655-ba64-ac690dcea040
X-WR-CALDESC:This holiday season\, we need some new games and toys for our 
 kids. Drop by ACGC between 3 - 6 PM to contribute to the toy drive as well
  as celebrate the season of giving with the ACGC community! We will have h
 oliday music\, drinks and snacks\, as well as Mr. and Mrs. Santa Clause fo
 r pictures.
X-WR-RELCALID:3a373bd0603fa9bd5f3d3c0066d03e10
X-WR-TIMEZONE:America/Chicago
BEGIN:VTIMEZONE
TZID:America/Chicago
BEGIN:STANDARD
TZNAME:CST
DTSTART:20231105T020000
TZOFFSETFROM:-0500
TZOFFSETTO:-0600
RDATE:20241103T020000
END:STANDARD
BEGIN:DAYLIGHT
TZNAME:CDT
DTSTART:20230312T020000
TZOFFSETFROM:-0600
TZOFFSETTO:-0500
RDATE:20240310T020000
RDATE:20250309T020000
END:DAYLIGHT
END:VTIMEZONE
BEGIN:VEVENT
UID:55b6aa1b-0d05-4aee-9476-db36d9ced6e0
DTSTAMP:20260424T135812Z
DESCRIPTION:This holiday season\, we need some new games and toys for our k
 ids. Drop by ACGC between 3 - 6 PM to contribute to the toy drive as well 
 as celebrate the season of giving with the ACGC community! We will have ho
 liday music\, drinks and snacks\, as well as Mr. and Mrs. Santa Clause for
  pictures.
DTSTART;TZID=America/Chicago:20231203T150000
DTEND;TZID=America/Chicago:20231203T180000
LOCATION:810 W. 45th Street \, Austin\, TX 78751 US
SUMMARY:Dolls4Dolls Charity Mingle and Toy Drive
END:VEVENT
END:VCALENDAR
